BEGIN:VCALENDAR
VERSION:2.0
METHOD:PUBLISH
CALSCALE:GREGORIAN
METHOD:PUBLISH
PRODID:iCalendar-Ruby
BEGIN:VEVENT
CATEGORIES:Heakord,Muud talgud,Prügikoristus
COMMENT:https://talgud.teemeara.ee/
CONTACT:MTÜ Narva Muinsuskaitse Selts\, n.m.selts@gmail.com\, 51942509
DESCRIPTION:
DTEND:20260516T140000
DTSTAMP:20260421T043925Z
DTSTART:20260516T120000
GEO:59.3996281397;28.1839726203
LAST-MODIFIED:20260420T224042
LOCATION:Ida-Virumaa\, Narva linn\, Johannese kalmistu Jõesuu tänaval
ORGANIZER:MTÜ Narva Muinsuskaitse Selts\, n.m.selts@gmail.com\, 51942509
SEQUENCE:0
STATUS:Registreerumiseks avatud
SUMMARY:260420012\, Narvas Walter Shawcrossi mälestuseks korrastustalgude /
  Толока памяти Вальтера Шоукросса на Иоанновском кладбище
UID:260420012
URL:https://talgud.teemeara.ee/events/walter-shawcrossi-malestuseks-korrast
 ustalgude-slash-toloka-pamiati-valtiera-shoukrossa-na-ioannovskom-kladbishc
 hie
END:VEVENT
END:VCALENDAR
