BEGIN:VCALENDAR
VERSION:2.0
METHOD:PUBLISH
CALSCALE:GREGORIAN
METHOD:PUBLISH
PRODID:iCalendar-Ruby
BEGIN:VEVENT
CATEGORIES:Heakord,Prügikoristus
COMMENT:https://talgud.teemeara.ee/
CONTACT:Rene Alberi\, renealberi73@gmail.com\, 56280830
DTEND:20260502T140000
DTSTAMP:20260422T060847Z
DTSTART:20260502T100000
GEO:57.8425017;27.0059657
LAST-MODIFIED:20260421T185848
LOCATION:Võrumaa\, Võru linn\, Tartu tn 42
ORGANIZER:Rene Alberi\, renealberi73@gmail.com\, 56280830
SEQUENCE:0
STATUS:Registreerumiseks avatud
SUMMARY:260421038\, Võru Katariina koguduse pastoraadi koristustalgud
UID:260421038
URL:https://talgud.teemeara.ee/events/voru-katariina-koguduse-pastoraadi-ko
 ristustalgud
END:VEVENT
END:VCALENDAR
