BEGIN:VCALENDAR
VERSION:2.0
METHOD:PUBLISH
CALSCALE:GREGORIAN
METHOD:PUBLISH
PRODID:iCalendar-Ruby
BEGIN:VEVENT
CATEGORIES:Благоустройство
COMMENT:https://talgud.teemeara.ee/
CONTACT:Jaana Reintam\, oppealajuhataja@vokalasteaed.ee\, 3398294
DESCRIPTION:
DTEND:20260430T120000
DTSTAMP:20260422T204806Z
DTSTART:20260430T100000
GEO:59.405485293;27.58458325
LAST-MODIFIED:20260422T180102
LOCATION:Ida-Virumaa\, Toila vald\, Voka alevik\, Männiku 2
ORGANIZER:Jaana Reintam\, oppealajuhataja@vokalasteaed.ee\, 3398294
SEQUENCE:0
STATUS:Регистрация завершена
SUMMARY:260421017\, Voka lasteaed Naksitrallid heakorra talgud!
UID:260421017
URL:https://talgud.teemeara.ee/events/voka-lasteaed-naksitrallid-heakorra-t
 algud-1
END:VEVENT
END:VCALENDAR
