BEGIN:VCALENDAR
VERSION:2.0
METHOD:PUBLISH
CALSCALE:GREGORIAN
METHOD:PUBLISH
PRODID:iCalendar-Ruby
BEGIN:VEVENT
CATEGORIES:Külatalgud,Heakord,Prügikoristus
COMMENT:https://talgud.teemeara.ee/
CONTACT:Triin Raave\, triin@must.ee\, +3725164240
DESCRIPTION:
DTEND:20260502T150000
DTSTAMP:20260422T041508Z
DTSTART:20260502T110000
GEO:58.5795382471;23.5364643664
LAST-MODIFIED:20260421T163639
LOCATION:Pärnumaa\, Lääneranna vald\, Virtsu alevik\, Pargi 5 Virtsu
ORGANIZER:Triin Raave\, triin@must.ee\, +3725164240
SEQUENCE:0
STATUS:Registreerumiseks avatud
SUMMARY:260421007\, Virtsu lasteaia talgud
UID:260421007
URL:https://talgud.teemeara.ee/events/virtsu-lasteaia-talgud
END:VEVENT
END:VCALENDAR
