BEGIN:VCALENDAR
VERSION:2.0
METHOD:PUBLISH
CALSCALE:GREGORIAN
METHOD:PUBLISH
PRODID:iCalendar-Ruby
BEGIN:VEVENT
CATEGORIES:Heakord
COMMENT:https://talgud.teemeara.ee/
CONTACT:Krista Erismäe\, krista.erismae@gmail.com\, 5256103
DTEND:20260502T170000
DTSTAMP:20260420T173043Z
DTSTART:20260502T110000
GEO:58.6043932919;24.0616141024
LAST-MODIFIED:20260420T102439
LOCATION:Pärnumaa\, Lääneranna vald\, Veltsa\, Veltsa park
ORGANIZER:Krista Erismäe\, krista.erismae@gmail.com\, 5256103
SEQUENCE:0
STATUS:Avalikustatud
SUMMARY:260419017\, Veltsa Mõisa pargi talgud
UID:260419017
URL:https://talgud.teemeara.ee/events/veltsa-moisa-pargi-talgud
END:VEVENT
END:VCALENDAR
