BEGIN:VCALENDAR
VERSION:2.0
METHOD:PUBLISH
CALSCALE:GREGORIAN
METHOD:PUBLISH
PRODID:iCalendar-Ruby
BEGIN:VEVENT
CATEGORIES:Heakord,Külatalgud,Mõttetalgud,Prügikoristus
COMMENT:https://talgud.teemeara.ee/
CONTACT:janika taar\, janika.taar@ugala.ee\, 56496433
DESCRIPTION:
DTEND:20260502T140000
DTSTAMP:20260421T105819Z
DTSTART:20260502T100000
GEO:58.3289085;25.6140653
LAST-MODIFIED:20260421T070524
LOCATION:Viljandimaa\, Viljandi vald\, Vardja\, Vardja
ORGANIZER:janika taar\, janika.taar@ugala.ee\, 56496433
SEQUENCE:0
STATUS:Registreerumiseks avatud
SUMMARY:260420034\, Vardja küla Kiigemäe talgud
UID:260420034
URL:https://talgud.teemeara.ee/events/vardja-kula-kiigemae-talgud-2
END:VEVENT
END:VCALENDAR
