BEGIN:VCALENDAR
VERSION:2.0
METHOD:PUBLISH
CALSCALE:GREGORIAN
METHOD:PUBLISH
PRODID:iCalendar-Ruby
BEGIN:VEVENT
CATEGORIES:Heakord,Külatalgud,Prügikoristus
COMMENT:https://talgud.teemeara.ee/
CONTACT:Astra Polma\, astra.polma@gmail.com\, 55658763
DESCRIPTION:
DTEND:20260502T160000
DTSTAMP:20260420T190311Z
DTSTART:20260502T110000
GEO:58.7666771002;24.2630515769
LAST-MODIFIED:20260420T144018
LOCATION:Raplamaa\, Märjamaa vald\, Vana-Vigala\, Jaama 21
ORGANIZER:Astra Polma\, astra.polma@gmail.com\, 55658763
SEQUENCE:0
STATUS:Registreerumiseks avatud
SUMMARY:260420021\, Vana-Vigala Jaama piirkonna korrastamine
UID:260420021
URL:https://talgud.teemeara.ee/events/vana-vigala-jaama-piirkonna-korrastam
 ine
END:VEVENT
END:VCALENDAR
