BEGIN:VCALENDAR
VERSION:2.0
METHOD:PUBLISH
CALSCALE:GREGORIAN
METHOD:PUBLISH
PRODID:iCalendar-Ruby
BEGIN:VEVENT
CATEGORIES:Vaimse tervise talgud
COMMENT:https://talgud.teemeara.ee/
CONTACT:Maiken Sikk\, Maiken.Sikk@valgapk.edu.ee\, 58268145
DESCRIPTION:
DTEND:20260502T110000
DTSTAMP:20260421T162721Z
DTSTART:20260430T110000
GEO:57.7772923415;26.0459851624
LAST-MODIFIED:20260421T170102
LOCATION:Valgamaa\, Valga vald\, Valga linn\, Kungla 16
ORGANIZER:Maiken Sikk\, Maiken.Sikk@valgapk.edu.ee\, 58268145
SEQUENCE:0
STATUS:Registreerumine lõpetatud
SUMMARY:260421028\, Vaimse tervise talgud Valga Põhikoolis 8.b klassis
UID:260421028
URL:https://talgud.teemeara.ee/events/vaimse-tervise-talgud-valga-pohikooli
 s-8-dot-b-klassis
END:VEVENT
END:VCALENDAR
