BEGIN:VCALENDAR
VERSION:2.0
METHOD:PUBLISH
CALSCALE:GREGORIAN
METHOD:PUBLISH
PRODID:iCalendar-Ruby
BEGIN:VEVENT
CATEGORIES:Heakord,Külatalgud,Prügikoristus
COMMENT:https://talgud.teemeara.ee/
CONTACT:Kaia Pilvik\, kaia@pilvik.eu\, 37256358158
DTEND:20260502T130000
DTSTAMP:20260421T061038Z
DTSTART:20260502T110000
GEO:59.2739578731;25.0092219042
LAST-MODIFIED:20260420T190102
LOCATION:Harjumaa\, Rae vald\, Vaidasoo\, Vaidasoo
ORGANIZER:Kaia Pilvik\, kaia@pilvik.eu\, 37256358158
SEQUENCE:0
STATUS:Registreerumine lõpetatud
SUMMARY:260416028\, Vaidasoo küla koristustalgud
UID:260416028
URL:https://talgud.teemeara.ee/events/vaidasoo-kula-koristustalgud
END:VEVENT
END:VCALENDAR
