BEGIN:VCALENDAR
VERSION:2.0
METHOD:PUBLISH
CALSCALE:GREGORIAN
METHOD:PUBLISH
PRODID:iCalendar-Ruby
BEGIN:VEVENT
CATEGORIES:Vaimse tervise talgud
COMMENT:https://talgud.teemeara.ee/
CONTACT:Kärt Sarapik\, kart.sarapik@gmail.com\, 59121556
DTEND:20260505T190000
DTSTAMP:20260421T090117Z
DTSTART:20260505T163000
GEO:58.8947335;25.4545249
LAST-MODIFIED:20260421T100102
LOCATION:Järvamaa\, Türi vald\, Väätsa alevik
ORGANIZER:Kärt Sarapik\, kart.sarapik@gmail.com\, 59121556
SEQUENCE:0
STATUS:Registreerumine lõpetatud
SUMMARY:260421002\, Väätsa Rebaste rühma kodutütarde vaimse tervise Raba-Re
 sto
UID:260421002
URL:https://talgud.teemeara.ee/events/vaatsa-rebaste-ruhma-kodututarde-vaim
 se-tervise-raba-resto
END:VEVENT
END:VCALENDAR
