BEGIN:VCALENDAR
VERSION:2.0
METHOD:PUBLISH
CALSCALE:GREGORIAN
METHOD:PUBLISH
PRODID:iCalendar-Ruby
BEGIN:VEVENT
CATEGORIES:Heakord,Kogukonna turvalisus,Külatalgud,Prügikoristus
COMMENT:https://talgud.teemeara.ee/
CONTACT:Teele Kungla\, teelekungla@gmail.com\, 53881051
DTEND:20260426T180000
DTSTAMP:20260422T040158Z
DTSTART:20260426T140000
GEO:59.4788443947;24.9916981925
LAST-MODIFIED:20260420T180510
LOCATION:Harjumaa\, Jõelähtme vald\, Uusküla\, Maardu tee 102
ORGANIZER:Teele Kungla\, teelekungla@gmail.com\, 53881051
SEQUENCE:0
STATUS:Registreerumiseks avatud
SUMMARY:260417007\, Uusküla külaplats suveks korda
UID:260417007
URL:https://talgud.teemeara.ee/events/uuskula-kulaplats-suveks-korda
END:VEVENT
END:VCALENDAR
