BEGIN:VCALENDAR
VERSION:2.0
METHOD:PUBLISH
CALSCALE:GREGORIAN
METHOD:PUBLISH
PRODID:iCalendar-Ruby
BEGIN:VEVENT
CATEGORIES:Heakord,Prügikoristus,Kogukonna turvalisus
COMMENT:https://talgud.teemeara.ee/
CONTACT:Annikki Poom\, urgeks@gmail.com\, 51981730
DESCRIPTION:
DTEND:20260509T170000
DTSTAMP:20260420T162656Z
DTSTART:20260509T100000
GEO:58.433004;24.6506566
LAST-MODIFIED:20260420T153229
LOCATION:Pärnumaa\, Tori vald\, Urge\, Urge tee 12
ORGANIZER:Annikki Poom\, urgeks@gmail.com\, 51981730
SEQUENCE:0
STATUS:Registreerumiseks avatud
SUMMARY:260419012\, Urge külakeskuse koristustalgud
UID:260419012
URL:https://talgud.teemeara.ee/events/urge-kulakeskuse-koristus-talgud
END:VEVENT
END:VCALENDAR
