BEGIN:VCALENDAR
VERSION:2.0
METHOD:PUBLISH
CALSCALE:GREGORIAN
METHOD:PUBLISH
PRODID:iCalendar-Ruby
BEGIN:VEVENT
CATEGORIES:Elurikkad õppeaiad,Külatalgud
COMMENT:https://talgud.teemeara.ee/
CONTACT:Marju Rebane\, marju.rebane@gmail.com\, 55900379
DESCRIPTION:
DTEND:20260502T160000
DTSTAMP:20260422T004535Z
DTSTART:20260502T100000
GEO:58.2009873734;26.5838081481
LAST-MODIFIED:20260421T153843
LOCATION:Tartumaa\, Kambja vald\, Pangodi
ORGANIZER:Marju Rebane\, marju.rebane@gmail.com\, 55900379
SEQUENCE:0
STATUS:Registreerumiseks avatud
SUMMARY:260421022\, Unipiha Algkooli talgud
UID:260421022
URL:https://talgud.teemeara.ee/events/unipiha-algkooli-talgud
END:VEVENT
END:VCALENDAR
