BEGIN:VCALENDAR
VERSION:2.0
METHOD:PUBLISH
CALSCALE:GREGORIAN
METHOD:PUBLISH
PRODID:iCalendar-Ruby
BEGIN:VEVENT
CATEGORIES:Külatalgud
COMMENT:https://talgud.teemeara.ee/
CONTACT:Tarmo Rebane\, tarmo@tarmoren.ee\, 5062039
DTEND:20260509T160000
DTSTAMP:20260420T153033Z
DTSTART:20260509T110000
GEO:59.1088428;26.3328866
LAST-MODIFIED:20260420T085722
LOCATION:Lääne-Virumaa\, Väike-Maarja vald\, Triigi
ORGANIZER:Tarmo Rebane\, tarmo@tarmoren.ee\, 5062039
SEQUENCE:0
STATUS:Registreerumiseks avatud
SUMMARY:260418002\, Triigi küla korda
UID:260418002
URL:https://talgud.teemeara.ee/events/triigi-kula-korda-2
END:VEVENT
END:VCALENDAR
