BEGIN:VCALENDAR
VERSION:2.0
METHOD:PUBLISH
CALSCALE:GREGORIAN
METHOD:PUBLISH
PRODID:iCalendar-Ruby
BEGIN:VEVENT
CATEGORIES:Külatalgud,Prügikoristus
COMMENT:https://talgud.teemeara.ee/
CONTACT:Aivar Kaesvelt\, aivarkaes@gmail.com\, 5168256
DTEND:20260502T160000
DTSTAMP:20260425T182013Z
DTSTART:20260502T100000
GEO:58.1798556;22.1060241
LAST-MODIFIED:20260425T170103
LOCATION:Saaremaa\, Saaremaa vald\, Toomalõuka\, Toomalõuka küla
ORGANIZER:Aivar Kaesvelt\, aivarkaes@gmail.com\, 5168256
SEQUENCE:0
STATUS:Registreerumine lõpetatud
SUMMARY:260425012\, Toomalõuka külatalgud
UID:260425012
URL:https://talgud.teemeara.ee/events/toomalouka-kulatalgud
END:VEVENT
END:VCALENDAR
