BEGIN:VCALENDAR
VERSION:2.0
METHOD:PUBLISH
CALSCALE:GREGORIAN
METHOD:PUBLISH
PRODID:iCalendar-Ruby
BEGIN:VEVENT
CATEGORIES:Prügikoristus
COMMENT:https://talgud.teemeara.ee/
CONTACT:Ljudmila Veresinina\, Ljudmila.v@gmail.com\, 53446692
DTEND:20260422T130000
DTSTAMP:20260423T030920Z
DTSTART:20260422T110000
GEO:59.4292425;24.8352587
LAST-MODIFIED:20260422T110103
LOCATION:Harjumaa\, Tallinn\, Lasnamäe linnaosa\, Priisle park
ORGANIZER:Ljudmila Veresinina\, Ljudmila.v@gmail.com\, 53446692
SEQUENCE:0
STATUS:Registreerumine lõpetatud
SUMMARY:260416010\, TLVL
UID:260416010
URL:https://talgud.teemeara.ee/events/tlvl
END:VEVENT
END:VCALENDAR
