BEGIN:VCALENDAR
VERSION:2.0
METHOD:PUBLISH
CALSCALE:GREGORIAN
METHOD:PUBLISH
PRODID:iCalendar-Ruby
BEGIN:VEVENT
CATEGORIES:Heakord,Külatalgud
COMMENT:https://talgud.teemeara.ee/
CONTACT:Kati Aus\, kati_aus@hotmail.com\, 5104086
DTEND:20260502T140000
DTSTAMP:20260421T122506Z
DTSTART:20260502T100000
GEO:58.1818569893;22.197520579
LAST-MODIFIED:20260421T115143
LOCATION:Saaremaa\, Saaremaa vald\, Tiirimetsa\, Koolimaja
ORGANIZER:Kati Aus\, kati_aus@hotmail.com\, 5104086
SEQUENCE:0
STATUS:Registreerumiseks avatud
SUMMARY:260421016\, Tiirimetsa talgud
UID:260421016
URL:https://talgud.teemeara.ee/events/tiirimetsa-talgud
END:VEVENT
END:VCALENDAR
