BEGIN:VCALENDAR
VERSION:2.0
METHOD:PUBLISH
CALSCALE:GREGORIAN
METHOD:PUBLISH
PRODID:iCalendar-Ruby
BEGIN:VEVENT
CATEGORIES:Благоустройство,Уборка мусора
COMMENT:https://talgud.teemeara.ee/
CONTACT:Maie Sepp\, direktor@kivimae.ee\, 5137284
DTEND:20260425T140000
DTSTAMP:20260424T123804Z
DTSTART:20260425T100000
GEO:59.3879285;24.6839645
LAST-MODIFIED:20260424T100102
LOCATION:Harjumaa\, Tallinn\, Nõmme linnaosa\, Leegi 14
ORGANIZER:Maie Sepp\, direktor@kivimae.ee\, 5137284
SEQUENCE:0
STATUS:Регистрация завершена
SUMMARY:260415014\, Teeme üheskoos Kivimäe põhikooli ümbruse korda
UID:260415014
URL:https://talgud.teemeara.ee/events/teeme-uheskoos-kivimae-pohikooli-umbr
 use-korda-6
END:VEVENT
END:VCALENDAR
