BEGIN:VCALENDAR
VERSION:2.0
METHOD:PUBLISH
CALSCALE:GREGORIAN
METHOD:PUBLISH
PRODID:iCalendar-Ruby
BEGIN:VEVENT
CATEGORIES:Heakord
COMMENT:https://talgud.teemeara.ee/
CONTACT:Piret Reinfeld\, piret.reinfeld@mail.ee\, 5042105\,Piret Reinfeld\,
  mesilane4@gmail.com\, 5042105
DESCRIPTION:
DTEND:20260502T150000
DTSTAMP:20260423T030917Z
DTSTART:20260502T110000
GEO:58.8830188777;25.5831600756
LAST-MODIFIED:20260422T220052
LOCATION:Järvamaa\, Paide linn\, Kriilevälja\, Paide Rannaspordikeskus
ORGANIZER:Piret Reinfeld\, piret.reinfeld@mail.ee\, 5042105\; Piret Reinfel
 d\, mesilane4@gmail.com\, 5042105
SEQUENCE:0
STATUS:Registreerumine lõpetatud
SUMMARY:260422009\, Teeme ära vol5
UID:260422009
URL:https://talgud.teemeara.ee/events/teeme-ara-vol5
END:VEVENT
END:VCALENDAR
