BEGIN:VCALENDAR
VERSION:2.0
METHOD:PUBLISH
CALSCALE:GREGORIAN
METHOD:PUBLISH
PRODID:iCalendar-Ruby
BEGIN:VEVENT
CATEGORIES:Elurikkad õppeaiad,Heakord,Prügikoristus,Vaimse tervise talgud
COMMENT:https://talgud.teemeara.ee/
CONTACT:Kristiine Juuse\, lasteaed@maardusipsik.ee\, 55585401
DTEND:20260425T130000
DTSTAMP:20260425T154045Z
DTSTART:20260425T100000
GEO:59.4708836;24.9671659
LAST-MODIFIED:20260425T100102
LOCATION:Harjumaa\, Maardu linn\, Noorte 8
ORGANIZER:Kristiine Juuse\, lasteaed@maardusipsik.ee\, 55585401
SEQUENCE:0
STATUS:Registreerumine lõpetatud
SUMMARY:260410002\, Teeme Ära! Talgupäev lasteaias Sipsik - Rõõmu majas
UID:260410002
URL:https://talgud.teemeara.ee/events/teeme-ara-talgupaev-lasteaias-sipsik-
 roomu-majas
END:VEVENT
END:VCALENDAR
