BEGIN:VCALENDAR
VERSION:2.0
METHOD:PUBLISH
CALSCALE:GREGORIAN
METHOD:PUBLISH
PRODID:iCalendar-Ruby
BEGIN:VEVENT
CATEGORIES:Looduskaitse,Prügikoristus
COMMENT:https://talgud.teemeara.ee/
CONTACT:Kadri Prants\, kadri.prants@gmail.com\, 56935275
DTEND:20260425T160000
DTSTAMP:20260421T055727Z
DTSTART:20260425T120000
GEO:59.4395412605;25.1343237551
LAST-MODIFIED:20260416T191335
LOCATION:Harjumaa\, Jõelähtme vald\, Jõelähtme\, Kostivere karstiala
ORGANIZER:Kadri Prants\, kadri.prants@gmail.com\, 56935275
SEQUENCE:0
STATUS:Registreerumiseks avatud
SUMMARY:260414018\, Teeme Ära talgumatk Kostivere karstialal
UID:260414018
URL:https://talgud.teemeara.ee/events/teeme-ara-talgumatk-kostivere-karstia
 lal
END:VEVENT
END:VCALENDAR
