BEGIN:VCALENDAR
VERSION:2.0
METHOD:PUBLISH
CALSCALE:GREGORIAN
METHOD:PUBLISH
PRODID:iCalendar-Ruby
BEGIN:VEVENT
CATEGORIES:Külatalgud
COMMENT:https://talgud.teemeara.ee/
CONTACT:Piret Karus-Kivastik\, piret.karus-kivastik@marjamaa.edu.ee\, 56949
 588
DESCRIPTION:
DTEND:20260502T190000
DTSTAMP:20260420T215807Z
DTSTART:20260502T170000
GEO:58.9640906013;24.2881952965
LAST-MODIFIED:20260420T203915
LOCATION:Raplamaa\, Märjamaa vald\, Kohatu\, Raplamaa\, Märjamaa vald\, Koh
 atu\, Kohatu küla
ORGANIZER:Piret Karus-Kivastik\, piret.karus-kivastik@marjamaa.edu.ee\, 569
 49588
SEQUENCE:0
STATUS:Registreerumiseks avatud
SUMMARY:260420031\, TEEME ÄRA-TALGUD!
UID:260420031
URL:https://talgud.teemeara.ee/events/teeme-ara-talgud
END:VEVENT
END:VCALENDAR
