BEGIN:VCALENDAR
VERSION:2.0
METHOD:PUBLISH
CALSCALE:GREGORIAN
METHOD:PUBLISH
PRODID:iCalendar-Ruby
BEGIN:VEVENT
CATEGORIES:Prügikoristus
COMMENT:https://talgud.teemeara.ee/
CONTACT:Rauno Vahtre\, rauno.vahtre@outlook.com\, 54617541
DTEND:20260503T160000
DTSTAMP:20260420T161605Z
DTSTART:20260503T100000
GEO:58.9410864775;24.9076287648
LAST-MODIFIED:20260420T161617
LOCATION:Raplamaa\, Kehtna vald\, Linnaaluste\, Tammiku talu
ORGANIZER:Rauno Vahtre\, rauno.vahtre@outlook.com\, 54617541
SEQUENCE:0
STATUS:Registreerumiseks avatud
SUMMARY:260420014\, Tammiku talu taastamine
UID:260420014
URL:https://talgud.teemeara.ee/events/tammiku-talu-taastamine-1
END:VEVENT
END:VCALENDAR
