BEGIN:VCALENDAR
VERSION:2.0
METHOD:PUBLISH
CALSCALE:GREGORIAN
METHOD:PUBLISH
PRODID:iCalendar-Ruby
BEGIN:VEVENT
CATEGORIES:Heakord
COMMENT:https://talgud.teemeara.ee/
CONTACT:Heili Vast\, direktor@muinasjutu.edu.ee\, 6561181
DTEND:20260425T120000
DTSTAMP:20260425T152338Z
DTSTART:20260425T100000
GEO:59.4157817;24.7077824
LAST-MODIFIED:20260425T100102
LOCATION:Harjumaa\, Tallinn\, Kristiine linnaosa\, Energia 11
ORGANIZER:Heili Vast\, direktor@muinasjutu.edu.ee\, 6561181
SEQUENCE:0
STATUS:Registreerumine lõpetatud
SUMMARY:260410024\, Tallinna Muinasjutu Lasteaia talgud
UID:260410024
URL:https://talgud.teemeara.ee/events/tallinna-muinasjutu-lasteaia-talgud
END:VEVENT
END:VCALENDAR
