BEGIN:VCALENDAR
VERSION:2.0
METHOD:PUBLISH
CALSCALE:GREGORIAN
METHOD:PUBLISH
PRODID:iCalendar-Ruby
BEGIN:VEVENT
CATEGORIES:Elurikkad õppeaiad,Heakord
COMMENT:https://talgud.teemeara.ee/
CONTACT:Carmen Soo\, info@sipsik.edu.ee\, 5226820
DTEND:20260428T180000
DTSTAMP:20260421T034030Z
DTSTART:20260428T160000
GEO:59.4327987;24.7630218
LAST-MODIFIED:20260420T140102
LOCATION:Harjumaa\, Tallinn\, Kesklinna linnaosa\, P. Süda 6
ORGANIZER:Carmen Soo\, info@sipsik.edu.ee\, 5226820
SEQUENCE:0
STATUS:Registreerumine lõpetatud
SUMMARY:260420007\, Talgupäev Tallinna lasteaias Sipsik
UID:260420007
URL:https://talgud.teemeara.ee/events/talgupaev-tallinna-lasteaias-sipsik-6
END:VEVENT
END:VCALENDAR
