BEGIN:VCALENDAR
VERSION:2.0
METHOD:PUBLISH
CALSCALE:GREGORIAN
METHOD:PUBLISH
PRODID:iCalendar-Ruby
BEGIN:VEVENT
CATEGORIES:Külatalgud
COMMENT:https://talgud.teemeara.ee/
CONTACT:Diana Okas\, okasdiana@gmail.com\, 56671000
DTEND:20260509T160000
DTSTAMP:20260419T135223Z
DTSTART:20260509T110000
GEO:59.5207340189;26.7272716341
LAST-MODIFIED:20260417T094355
LOCATION:Lääne-Virumaa\, Viru-Nigula vald\, Mahu
ORGANIZER:Diana Okas\, okasdiana@gmail.com\, 56671000
SEQUENCE:0
STATUS:Avalikustatud
SUMMARY:260413010\, Talgupäev Siig5\, iga soomus loeb
UID:260413010
URL:https://talgud.teemeara.ee/events/talgupaev-siig5-iga-soomus-loeb
END:VEVENT
END:VCALENDAR
