BEGIN:VCALENDAR
VERSION:2.0
METHOD:PUBLISH
CALSCALE:GREGORIAN
METHOD:PUBLISH
PRODID:iCalendar-Ruby
BEGIN:VEVENT
CATEGORIES:Vaimse tervise talgud
COMMENT:https://talgud.teemeara.ee/
CONTACT:Ketter Kõre\, ketter.kore@johvig.ee\, +3723929719
DESCRIPTION:
DTEND:20260502T160000
DTSTAMP:20260422T204516Z
DTSTART:20260502T100000
GEO:59.3491342766;27.4167504959
LAST-MODIFIED:20260422T180102
LOCATION:Ida-Virumaa\, Jõhvi vald\, Jõhvi
ORGANIZER:Ketter Kõre\, ketter.kore@johvig.ee\, +3723929719
SEQUENCE:0
STATUS:Registreerumine lõpetatud
SUMMARY:260421025\, Talgupäev 2026 Jõhvi Gümnaasiumis
UID:260421025
URL:https://talgud.teemeara.ee/events/talgupaev-2026-johvi-gumnaasiumis
END:VEVENT
END:VCALENDAR
