BEGIN:VCALENDAR
VERSION:2.0
METHOD:PUBLISH
CALSCALE:GREGORIAN
METHOD:PUBLISH
PRODID:iCalendar-Ruby
BEGIN:VEVENT
CATEGORIES:Heakord
COMMENT:https://talgud.teemeara.ee/
CONTACT:Kersti Juuse\, kersti.juuse@mail.ee\, 3378569
DESCRIPTION:
DTEND:20260501T160000
DTSTAMP:20260425T235602Z
DTSTART:20260501T120000
GEO:59.4185341;27.2926047
LAST-MODIFIED:20260424T142410
LOCATION:Ida-Virumaa\, Toila vald\, Kaasikaia
ORGANIZER:Kersti Juuse\, kersti.juuse@mail.ee\, 3378569
SEQUENCE:0
STATUS:Registreerumiseks avatud
SUMMARY:260424003\, Talgud Krabulis
UID:260424003
URL:https://talgud.teemeara.ee/events/talgud-krabulis-1
END:VEVENT
END:VCALENDAR
