BEGIN:VCALENDAR
VERSION:2.0
METHOD:PUBLISH
CALSCALE:GREGORIAN
METHOD:PUBLISH
PRODID:iCalendar-Ruby
BEGIN:VEVENT
CATEGORIES:Heakord,Külatalgud,Mõttetalgud,Prügikoristus
COMMENT:https://talgud.teemeara.ee/
CONTACT:Janika Annerviek\, janikaa@hot.ee\, 53818599
DESCRIPTION:
DTEND:20260502T140000
DTSTAMP:20260420T190052Z
DTSTART:20260502T110000
GEO:58.5524981218;24.1233089875
LAST-MODIFIED:20260420T152323
LOCATION:Pärnumaa\, Lääneranna vald\, Irta
ORGANIZER:Janika Annerviek\, janikaa@hot.ee\, 53818599
SEQUENCE:0
STATUS:Registreerumiseks avatud
SUMMARY:260419007\, Talgud Irta külas
UID:260419007
URL:https://talgud.teemeara.ee/events/talgud-irta-kulas-1
END:VEVENT
END:VCALENDAR
