BEGIN:VCALENDAR
VERSION:2.0
METHOD:PUBLISH
CALSCALE:GREGORIAN
METHOD:PUBLISH
PRODID:iCalendar-Ruby
BEGIN:VEVENT
CATEGORIES:Külatalgud
COMMENT:https://talgud.teemeara.ee/
CONTACT:Heldi Raude\, heldiraude50@gmail.com\, 5120893
DESCRIPTION:
DTEND:20260501T140000
DTSTAMP:20260422T181032Z
DTSTART:20260501T100000
GEO:58.6217639895;25.1036852703
LAST-MODIFIED:20260422T144516
LOCATION:Pärnumaa\, Põhja-Pärnumaa vald\, Suurejõe\, Vändra mnt. 13 Suurejõ
 e
ORGANIZER:Heldi Raude\, heldiraude50@gmail.com\, 5120893
SEQUENCE:0
STATUS:Registreerumiseks avatud
SUMMARY:260422020\, Suurejõe külaplatsi\, mänguväljaku korrastamine
UID:260422020
URL:https://talgud.teemeara.ee/events/suurejoe-kulaplatsi-manguvaljaku-korr
 astamine-1
END:VEVENT
END:VCALENDAR
