BEGIN:VCALENDAR
VERSION:2.0
METHOD:PUBLISH
CALSCALE:GREGORIAN
METHOD:PUBLISH
PRODID:iCalendar-Ruby
BEGIN:VEVENT
CATEGORIES:Heakord
COMMENT:https://talgud.teemeara.ee/
CONTACT:Hanna Saar\, saarhanna@gmail.com\, 53933252
DTEND:20260502T140000
DTSTAMP:20260420T161600Z
DTSTART:20260501T100000
GEO:58.3074843673;22.4071067359
LAST-MODIFIED:20260420T152952
LOCATION:Saaremaa\, Saaremaa vald\, Suur-Randvere\, Mõisa\, Suur-Randvere k
 üla
ORGANIZER:Hanna Saar\, saarhanna@gmail.com\, 53933252
SEQUENCE:0
STATUS:Registreerumiseks avatud
SUMMARY:260420023\, Suur-Randvere mõisapargi talgud
UID:260420023
URL:https://talgud.teemeara.ee/events/suur-randvere-moisapargi-talgud
END:VEVENT
END:VCALENDAR
