BEGIN:VCALENDAR
VERSION:2.0
METHOD:PUBLISH
CALSCALE:GREGORIAN
METHOD:PUBLISH
PRODID:iCalendar-Ruby
BEGIN:VEVENT
CATEGORIES:Heakord,Külatalgud,Prügikoristus
COMMENT:https://talgud.teemeara.ee/
CONTACT:Kaie Pranno\, kaie.pranno@gmail.com\, 56288687
DTEND:20260502T140000
DTSTAMP:20260420T044211Z
DTSTART:20260502T090000
GEO:;
LAST-MODIFIED:20260329T185535
LOCATION:Hiiumaa\, Hiiumaa vald\, Sõru
ORGANIZER:Kaie Pranno\, kaie.pranno@gmail.com\, 56288687
SEQUENCE:0
STATUS:Registreerumiseks avatud
SUMMARY:260329005\, Sõruotsa kevadtalgud 2026
UID:260329005
URL:https://talgud.teemeara.ee/events/soruotsa-kevadtalgud-2026
END:VEVENT
END:VCALENDAR
