BEGIN:VCALENDAR
VERSION:2.0
METHOD:PUBLISH
CALSCALE:GREGORIAN
METHOD:PUBLISH
PRODID:iCalendar-Ruby
BEGIN:VEVENT
CATEGORIES:Heakord
COMMENT:https://talgud.teemeara.ee/
CONTACT:Lia  Aigro\, liaaigro@gmail.com\, 53416419
DESCRIPTION:
DTEND:20260502T140000
DTSTAMP:20260421T213401Z
DTSTART:20260502T110000
GEO:58.8547209654;25.8496898063
LAST-MODIFIED:20260421T211752
LOCATION:Järvamaa\, Järva vald\, Sõrandu
ORGANIZER:Lia  Aigro\, liaaigro@gmail.com\, 53416419
SEQUENCE:0
STATUS:Registreerumiseks avatud
SUMMARY:260421043\, Sõrandu külamaja talgud
UID:260421043
URL:https://talgud.teemeara.ee/events/sorandu-kulamaja-talgud-2
END:VEVENT
END:VCALENDAR
