BEGIN:VCALENDAR
VERSION:2.0
METHOD:PUBLISH
CALSCALE:GREGORIAN
METHOD:PUBLISH
PRODID:iCalendar-Ruby
BEGIN:VEVENT
CATEGORIES:Heakord,Kogukonna turvalisus,Mõttetalgud,Prügikoristus,Vaimse te
 rvise talgud
COMMENT:https://talgud.teemeara.ee/
CONTACT:Merje Lani\, merjelani@gmail.com\, 55654818
DTEND:20260502T160000
DTSTAMP:20260423T030917Z
DTSTART:20260502T100000
GEO:58.8893086;26.3191162
LAST-MODIFIED:20260422T200103
LOCATION:Jõgevamaa\, Jõgeva vald\, Selli
ORGANIZER:Merje Lani\, merjelani@gmail.com\, 55654818
SEQUENCE:0
STATUS:Registreerumine lõpetatud
SUMMARY:260422003\, Siimu talu talgud
UID:260422003
URL:https://talgud.teemeara.ee/events/siimu-talu-talgud-3
END:VEVENT
END:VCALENDAR
