BEGIN:VCALENDAR
VERSION:2.0
METHOD:PUBLISH
CALSCALE:GREGORIAN
METHOD:PUBLISH
PRODID:iCalendar-Ruby
BEGIN:VEVENT
CATEGORIES:Heakord
COMMENT:https://talgud.teemeara.ee/
CONTACT:Sauga  Kaluriküla \, aivi@fishingvillage.ee\, 56263400
DESCRIPTION:
DTEND:20260502T160000
DTSTAMP:20260420T162656Z
DTSTART:20260502T100000
GEO:58.3933541936;24.4722868755
LAST-MODIFIED:20260420T154627
LOCATION:Pärnumaa\, Pärnu linn\, Pärnu linn\, Uus-Sauga 62\, Pärnu\n
ORGANIZER:Sauga  Kaluriküla \, aivi@fishingvillage.ee\, 56263400
SEQUENCE:0
STATUS:Registreerumiseks avatud
SUMMARY:260420024\, Sauga kaluriküla kaldaäärsed talgud 
UID:260420024
URL:https://talgud.teemeara.ee/events/sauga-kalurikula-kaldaaarsed-talgud
END:VEVENT
END:VCALENDAR
