BEGIN:VCALENDAR
VERSION:2.0
METHOD:PUBLISH
CALSCALE:GREGORIAN
METHOD:PUBLISH
PRODID:iCalendar-Ruby
BEGIN:VEVENT
CATEGORIES:Heakord,Külatalgud
COMMENT:https://talgud.teemeara.ee/
CONTACT:Triin Tippi\, triinpobbol@gmail.com\, 5207938
DTEND:20260502T130000
DTSTAMP:20260420T122228Z
DTSTART:20260502T100000
GEO:58.9883034;25.9407927
LAST-MODIFIED:20260420T110102
LOCATION:Järvamaa\, Järva vald\, Salutaguse
ORGANIZER:Triin Tippi\, triinpobbol@gmail.com\, 5207938
SEQUENCE:0
STATUS:Registreerumine lõpetatud
SUMMARY:260420004\, Salutaguse Nelja Küla Seltsi talgud
UID:260420004
URL:https://talgud.teemeara.ee/events/salutaguse-nelja-kula-seltsi-talgud-1
END:VEVENT
END:VCALENDAR
