BEGIN:VCALENDAR
VERSION:2.0
METHOD:PUBLISH
CALSCALE:GREGORIAN
METHOD:PUBLISH
PRODID:iCalendar-Ruby
BEGIN:VEVENT
CATEGORIES:Heakord,Korteriühistud,Külatalgud,Prügikoristus
COMMENT:https://talgud.teemeara.ee/
CONTACT:Kertu Saviots\, salumaeselts@gmail.com\, 56643642
DESCRIPTION:
DTEND:20260501T160000
DTSTAMP:20260423T081846Z
DTSTART:20260501T100000
GEO:58.6903297781;23.5806473576
LAST-MODIFIED:20260422T174042
LOCATION:Pärnumaa\, Lääneranna vald\, Salevere
ORGANIZER:Kertu Saviots\, salumaeselts@gmail.com\, 56643642
SEQUENCE:0
STATUS:Registreerumiseks avatud
SUMMARY:260421009\, Saleveres on tore elada! 
UID:260421009
URL:https://talgud.teemeara.ee/events/saleveres-on-tore-elada
END:VEVENT
END:VCALENDAR
