BEGIN:VCALENDAR
VERSION:2.0
METHOD:PUBLISH
CALSCALE:GREGORIAN
METHOD:PUBLISH
PRODID:iCalendar-Ruby
BEGIN:VEVENT
CATEGORIES:Vaimse tervise talgud
COMMENT:https://talgud.teemeara.ee/
CONTACT:Kristina Šadeiko-Liiva\, kristinashadeiko@gmail.com\, 53400761
DESCRIPTION:
DTEND:20260429T153000
DTSTAMP:20260421T163749Z
DTSTART:20260428T083000
GEO:59.3016538;24.6689357
LAST-MODIFIED:20260421T162335
LOCATION:Harjumaa\, Saku vald\, Saku alevik
ORGANIZER:Kristina Šadeiko-Liiva\, kristinashadeiko@gmail.com\, 53400761
SEQUENCE:0
STATUS:Avalikustatud
SUMMARY:260420030\, Saku Gümnaasiumi vaimse tervise talgud
UID:260420030
URL:https://talgud.teemeara.ee/events/saku-gumnaasiumi-vaimse-tervise-talgu
 d
END:VEVENT
END:VCALENDAR
