BEGIN:VCALENDAR
VERSION:2.0
METHOD:PUBLISH
CALSCALE:GREGORIAN
METHOD:PUBLISH
PRODID:iCalendar-Ruby
BEGIN:VEVENT
CATEGORIES:Kogukonna turvalisus
COMMENT:https://talgud.teemeara.ee/
CONTACT:Leina Kreek\, leina.kreek@gmail.com\, 5071653
DTEND:20260502T153000
DTSTAMP:20260425T104818Z
DTSTART:20260502T120000
GEO:58.786625;26.4947108
LAST-MODIFIED:20260425T010103
LOCATION:Jõgevamaa\, Jõgeva vald\, Laiuse alevik\, Kuremaa tee 36\, Laiuse 
 alevik\, Jõgeva vald
ORGANIZER:Leina Kreek\, leina.kreek@gmail.com\, 5071653
SEQUENCE:0
STATUS:Registreerumine lõpetatud
SUMMARY:260424023\, Ruumid korda muuseumis
UID:260424023
URL:https://talgud.teemeara.ee/events/ruumid-korda-muuseumis
END:VEVENT
END:VCALENDAR
