BEGIN:VCALENDAR
VERSION:2.0
METHOD:PUBLISH
CALSCALE:GREGORIAN
METHOD:PUBLISH
PRODID:iCalendar-Ruby
BEGIN:VEVENT
CATEGORIES:Heakord,Kogukonna turvalisus,Külatalgud,Mõttetalgud
COMMENT:https://talgud.teemeara.ee/
CONTACT:Riita Rassel\, riitar@gmail.com\, 5111673
DTEND:20260502T160000
DTSTAMP:20260421T104636Z
DTSTART:20260502T100000
GEO:58.3700195;23.0172509
LAST-MODIFIED:20260420T212604
LOCATION:Saaremaa\, Saaremaa vald\, Ruhve
ORGANIZER:Riita Rassel\, riitar@gmail.com\, 5111673
SEQUENCE:0
STATUS:Registreerumiseks avatud
SUMMARY:260418004\, Ruhve küla heakorratalgud
UID:260418004
URL:https://talgud.teemeara.ee/events/ruhve-kula-heakorratalgud
END:VEVENT
END:VCALENDAR
