BEGIN:VCALENDAR
VERSION:2.0
METHOD:PUBLISH
CALSCALE:GREGORIAN
METHOD:PUBLISH
PRODID:iCalendar-Ruby
BEGIN:VEVENT
CATEGORIES:Heakord,Muud talgud,Prügikoristus
COMMENT:https://talgud.teemeara.ee/
CONTACT:MTÜ Narva Muinsuskaitse Selts\, n.m.selts@gmail.com\, 51942509
DESCRIPTION:
DTEND:20260507T140000
DTSTAMP:20260423T031055Z
DTSTART:20260507T120000
GEO:59.3863322852;28.1492541068
LAST-MODIFIED:20260421T230523
LOCATION:Ida-Virumaa\, Narva linn\, Tallinna mnt\, Narva linn
ORGANIZER:MTÜ Narva Muinsuskaitse Selts\, n.m.selts@gmail.com\, 51942509
SEQUENCE:0
STATUS:Registreerumiseks avatud
SUMMARY:260420008\, Narvas "Rootsi lõvi" korrastustalgud / Толока у бывшего
  «Шведского льва» / Clean-up of former Swedish Lion
UID:260420008
URL:https://talgud.teemeara.ee/events/rootsi-lovi-korrastustalgud-slash-tol
 oka-u-byvshiegho-shviedskogho-lva-slash-clean-up-of-former-swedish-lion
END:VEVENT
END:VCALENDAR
