BEGIN:VCALENDAR
VERSION:2.0
METHOD:PUBLISH
CALSCALE:GREGORIAN
METHOD:PUBLISH
PRODID:iCalendar-Ruby
BEGIN:VEVENT
CATEGORIES:Heakord
COMMENT:https://talgud.teemeara.ee/
CONTACT:Elor Ilmet\, elor.ilmet@rmk.ee\, 5053401
DESCRIPTION:
DTEND:20260501T140000
DTSTAMP:20260422T004535Z
DTSTART:20260501T110000
GEO:58.6286721889;25.3853853167
LAST-MODIFIED:20260421T211850
LOCATION:Järvamaa\, Türi vald\, Rassi\, Rassi küla\, Külamaja
ORGANIZER:Elor Ilmet\, elor.ilmet@rmk.ee\, 5053401
SEQUENCE:0
STATUS:Registreerumiseks avatud
SUMMARY:260421042\, Rassi külatalgud
UID:260421042
URL:https://talgud.teemeara.ee/events/rassi-kulatalgud-8
END:VEVENT
END:VCALENDAR
