BEGIN:VCALENDAR
VERSION:2.0
METHOD:PUBLISH
CALSCALE:GREGORIAN
METHOD:PUBLISH
PRODID:iCalendar-Ruby
BEGIN:VEVENT
CATEGORIES:Muud talgud
COMMENT:https://talgud.teemeara.ee/
CONTACT:Jevgenia Maltseva\, jevgenia.maltseva@vpmk.edu.ee\, 58441050
DESCRIPTION:
DTEND:20260422T140000
DTSTAMP:20260424T052425Z
DTSTART:20260422T093000
GEO:57.7866845747;26.0385178925
LAST-MODIFIED:20260423T120102
LOCATION:Valgamaa\, Valga vald\, Valga linn\, Siguri park
ORGANIZER:Jevgenia Maltseva\, jevgenia.maltseva@vpmk.edu.ee\, 58441050
SEQUENCE:0
STATUS:Registreerumine lõpetatud
SUMMARY:260423005\, Räni pargi talgud
UID:260423005
URL:https://talgud.teemeara.ee/events/rani-pargi-talgud
END:VEVENT
END:VCALENDAR
