BEGIN:VCALENDAR
VERSION:2.0
METHOD:PUBLISH
CALSCALE:GREGORIAN
METHOD:PUBLISH
PRODID:iCalendar-Ruby
BEGIN:VEVENT
CATEGORIES:Heakord,Kogukonna turvalisus,Külatalgud,Looduskaitse,Prügikorist
 us
COMMENT:https://talgud.teemeara.ee/
CONTACT:Tõnis Relvik\, trelvik@gmail.com\, 58038655
DTEND:20260501T150000
DTSTAMP:20260420T192833Z
DTSTART:20260501T093000
GEO:59.6465521832;25.6914352708
LAST-MODIFIED:20260420T180708
LOCATION:Harjumaa\, Kuusalu vald\, Pärispea\, Seal kus haisvad adruvallid.
ORGANIZER:Tõnis Relvik\, trelvik@gmail.com\, 58038655
SEQUENCE:0
STATUS:Registreerumiseks avatud
SUMMARY:260419016\, Rand puhtaks
UID:260419016
URL:https://talgud.teemeara.ee/events/rand-puhtaks-8
END:VEVENT
END:VCALENDAR
