BEGIN:VCALENDAR
VERSION:2.0
METHOD:PUBLISH
CALSCALE:GREGORIAN
METHOD:PUBLISH
PRODID:iCalendar-Ruby
BEGIN:VEVENT
CATEGORIES:Vaimse tervise talgud
COMMENT:https://talgud.teemeara.ee/
CONTACT:Sirli Vahula\, sirli.vahula@rakvererk.ee\, 58530055
DTEND:20260508T160000
DTSTAMP:20260420T092420Z
DTSTART:20260502T080000
GEO:59.3470847;26.3593036
LAST-MODIFIED:20260420T090102
LOCATION:Lääne-Virumaa\, Rakvere linn\, Võidu 67\, Rakvere
ORGANIZER:Sirli Vahula\, sirli.vahula@rakvererk.ee\, 58530055
SEQUENCE:0
STATUS:Registreerumine lõpetatud
SUMMARY:260419006\, Rakvere Reaalkooli vaimse tervise talgud
UID:260419006
URL:https://talgud.teemeara.ee/events/rakvere-reaalkooli-vaimse-tervise-tal
 gud
END:VEVENT
END:VCALENDAR
