BEGIN:VCALENDAR
VERSION:2.0
METHOD:PUBLISH
CALSCALE:GREGORIAN
METHOD:PUBLISH
PRODID:iCalendar-Ruby
BEGIN:VEVENT
CATEGORIES:Heakord,Külatalgud,Prügikoristus
COMMENT:https://talgud.teemeara.ee/
CONTACT:Moonika Kurba\, moonikakurba@gmail.com\, 5055690
DTEND:20260502T140000
DTSTAMP:20260422T182233Z
DTSTART:20260502T110000
GEO:58.9150907;22.4256947
LAST-MODIFIED:20260422T134734
LOCATION:Hiiumaa\, Hiiumaa vald\, Puski
ORGANIZER:Moonika Kurba\, moonikakurba@gmail.com\, 5055690
SEQUENCE:0
STATUS:Registreerumiseks avatud
SUMMARY:260422018\, Puski surnuaia koristustalgud
UID:260422018
URL:https://talgud.teemeara.ee/events/puski-surnuaia-koristustalgud
END:VEVENT
END:VCALENDAR
