BEGIN:VCALENDAR
VERSION:2.0
METHOD:PUBLISH
CALSCALE:GREGORIAN
METHOD:PUBLISH
PRODID:iCalendar-Ruby
BEGIN:VEVENT
CATEGORIES:Heakord,Külatalgud,Prügikoristus
COMMENT:https://talgud.teemeara.ee/
CONTACT:Urmo Raiend\, urmo@stamina.ee\, 5019572\,Egle Liivamägi\, egle@pjpk
 .ee\, 53912995
DESCRIPTION:
DTEND:20260502T150000
DTSTAMP:20260424T080912Z
DTSTART:20260502T120000
GEO:58.046457129;26.4626475488
LAST-MODIFIED:20260423T114827
LOCATION:Valgamaa\, Otepää vald\, Pühajärve
ORGANIZER:Urmo Raiend\, urmo@stamina.ee\, 5019572\; Egle Liivamägi\, egle@p
 jpk.ee\, 53912995
SEQUENCE:0
STATUS:Registreerumiseks avatud
SUMMARY:260423004\, Pühajärve äärse jooksuraja puhastus
UID:260423004
URL:https://talgud.teemeara.ee/events/puhajarve-aarrse-jooksuraja-puhastus
END:VEVENT
END:VCALENDAR
