BEGIN:VCALENDAR
VERSION:2.0
METHOD:PUBLISH
CALSCALE:GREGORIAN
METHOD:PUBLISH
PRODID:iCalendar-Ruby
BEGIN:VEVENT
CATEGORIES:Heakord,Kogukonna turvalisus,Looduskaitse,Prügikoristus
COMMENT:https://talgud.teemeara.ee/
CONTACT:Egle Madissoo\, egle.madissoo@gmail.com\, 5035349
DESCRIPTION:
DTEND:20260502T160000
DTSTAMP:20260423T004104Z
DTSTART:20260502T100000
GEO:58.4344121223;27.2393595909
LAST-MODIFIED:20260423T010102
LOCATION:Tartumaa\, Peipsiääre vald\, Praaga\, Praaga\, Jõesuu
ORGANIZER:Egle Madissoo\, egle.madissoo@gmail.com\, 5035349
SEQUENCE:0
STATUS:Registreerumine lõpetatud
SUMMARY:260422002\, Praaga puhtaks vol 14
UID:260422002
URL:https://talgud.teemeara.ee/events/praaga-puhtaks-vol-14
END:VEVENT
END:VCALENDAR
