BEGIN:VCALENDAR
VERSION:2.0
METHOD:PUBLISH
CALSCALE:GREGORIAN
METHOD:PUBLISH
PRODID:iCalendar-Ruby
BEGIN:VEVENT
CATEGORIES:Heakord
COMMENT:https://talgud.teemeara.ee/
CONTACT:Merle Jakobson\, poltsamaa@ymca.ee\, 56672289
DESCRIPTION:
DTEND:20260429T200000
DTSTAMP:20260423T035451Z
DTSTART:20260429T170000
GEO:58.654972;25.9768897
LAST-MODIFIED:20260422T195809
LOCATION:Jõgevamaa\, Põltsamaa vald\, Põltsamaa linn\, Aia
ORGANIZER:Merle Jakobson\, poltsamaa@ymca.ee\, 56672289
SEQUENCE:0
STATUS:Registreerumiseks avatud
SUMMARY:260422028\, Põltsamaa Lillemetsa pargi laste mänguväljaku talgud
UID:260422028
URL:https://talgud.teemeara.ee/events/poltsamaa-lillemetsa-pargi-laste-mang
 uvaljaku-talgud-3
END:VEVENT
END:VCALENDAR
