BEGIN:VCALENDAR
VERSION:2.0
METHOD:PUBLISH
CALSCALE:GREGORIAN
METHOD:PUBLISH
PRODID:iCalendar-Ruby
BEGIN:VEVENT
CATEGORIES:Kogukonna turvalisus
COMMENT:https://talgud.teemeara.ee/
CONTACT:Piret Haav\, piret.haav@gmail.com\, 37253313007
DTEND:20260503T160000
DTSTAMP:20260424T122337Z
DTSTART:20260503T100000
GEO:58.937258293;26.9233209455
LAST-MODIFIED:20260423T184622
LOCATION:Jõgevamaa\, Mustvee vald\, Jõemetsa\, Piilsi kooli kinnistu
ORGANIZER:Piret Haav\, piret.haav@gmail.com\, 37253313007
SEQUENCE:0
STATUS:Registreerumiseks avatud
SUMMARY:260423022\, Piilsi külade seltsimaja keldri korrastamise talgud
UID:260423022
URL:https://talgud.teemeara.ee/events/piilsi-kulade-seltsimaja-keldri-korra
 stamise-talgud
END:VEVENT
END:VCALENDAR
